BEGIN:VCALENDAR
VERSION:2.0
PRODID:-//Filipino Thrive - ECPv6.15.20//NONSGML v1.0//EN
CALSCALE:GREGORIAN
METHOD:PUBLISH
X-WR-CALNAME:Filipino Thrive
X-ORIGINAL-URL:https://filipinothrive.com
X-WR-CALDESC:Events for Filipino Thrive
REFRESH-INTERVAL;VALUE=DURATION:PT1H
X-Robots-Tag:noindex
X-PUBLISHED-TTL:PT1H
BEGIN:VTIMEZONE
TZID:UTC
BEGIN:STANDARD
TZOFFSETFROM:+0000
TZOFFSETTO:+0000
TZNAME:UTC
DTSTART:20230101T000000
END:STANDARD
END:VTIMEZONE
BEGIN:VEVENT
DTSTART;TZID=UTC:20240218T170000
DTEND;TZID=UTC:20240218T230000
DTSTAMP:20260423T195933
CREATED:20240115T094429Z
LAST-MODIFIED:20240115T094514Z
UID:35636-1708275600-1708297200@filipinothrive.com
SUMMARY:Valentines Party Dinner and Dance - UK Dabaw Group
DESCRIPTION:
URL:https://filipinothrive.com/event/valentines-party-dinner-and-dance-uk-dabaw-group/
LOCATION:Apo RestoBar\, 148 Falcon Road\, London\, SW11 2LW\, United Kingdom
CATEGORIES:Valentines Event
END:VEVENT
END:VCALENDAR